Package: HCATonsilData Version: 1.6.0 Command: /home/biocbuild/bbs-3.21-bioc/R/bin/R CMD INSTALL HCATonsilData StartedAt: 2025-10-02 11:04:08 -0400 (Thu, 02 Oct 2025) EndedAt: 2025-10-02 11:04:39 -0400 (Thu, 02 Oct 2025) EllapsedTime: 30.6 seconds RetCode: 0 Status: OK