Package: HCAData Version: 1.22.0 Command: /home/biocbuild/bbs-3.20-bioc/R/bin/R CMD check --install=check:HCAData.install-out.txt --library=/home/biocbuild/bbs-3.20-bioc/R/site-library --timings HCAData_1.22.0.tar.gz StartedAt: 2025-02-06 12:07:37 -0500 (Thu, 06 Feb 2025) EndedAt: 2025-02-06 12:13:26 -0500 (Thu, 06 Feb 2025) EllapsedTime: 349.3 seconds RetCode: 0 Status: OK CheckDir: HCAData.Rcheck Warnings: 0