Package: GeuvadisTranscriptExpr Version: 1.38.0 Command: /home/biocbuild/bbs-3.22-bioc/R/bin/R CMD build --keep-empty-dirs --no-resave-data GeuvadisTranscriptExpr StartedAt: 2025-10-30 11:26:50 -0400 (Thu, 30 Oct 2025) EndedAt: 2025-10-30 11:27:26 -0400 (Thu, 30 Oct 2025) EllapsedTime: 36.5 seconds RetCode: 0 Status: OK PackageFile: GeuvadisTranscriptExpr_1.38.0.tar.gz PackageFileSize: 7.202 MiB