Package: GWASdata Version: 1.44.0 Command: /home/biocbuild/bbs-3.20-bioc/R/bin/R CMD build --keep-empty-dirs --no-resave-data GWASdata StartedAt: 2025-02-13 11:18:25 -0500 (Thu, 13 Feb 2025) EndedAt: 2025-02-13 11:18:30 -0500 (Thu, 13 Feb 2025) EllapsedTime: 5.3 seconds RetCode: 0 Status: OK PackageFile: GWASdata_1.44.0.tar.gz PackageFileSize: 8.249 MiB