Package: GSVAdata Version: 1.42.0 Command: /home/biocbuild/bbs-3.20-bioc/R/bin/R CMD INSTALL GSVAdata StartedAt: 2025-02-11 10:58:47 -0500 (Tue, 11 Feb 2025) EndedAt: 2025-02-11 10:59:08 -0500 (Tue, 11 Feb 2025) EllapsedTime: 21.1 seconds RetCode: 0 Status: OK