Package: GSVAdata Version: 1.44.0 Command: /home/biocbuild/bbs-3.21-bioc/R/bin/R CMD INSTALL GSVAdata StartedAt: 2025-10-09 10:58:53 -0400 (Thu, 09 Oct 2025) EndedAt: 2025-10-09 10:59:12 -0400 (Thu, 09 Oct 2025) EllapsedTime: 18.9 seconds RetCode: 0 Status: OK