Package: GSE159526 Version: 1.16.0 Command: /home/biocbuild/bbs-3.22-bioc/R/bin/R CMD INSTALL GSE159526 StartedAt: 2025-11-18 10:55:44 -0500 (Tue, 18 Nov 2025) EndedAt: 2025-11-18 10:55:45 -0500 (Tue, 18 Nov 2025) EllapsedTime: 1.4 seconds RetCode: 0 Status: OK