Package: GSE159526 Version: 1.16.0 Maintainer: Victor Yuan MaintainerEmail: victor.2wy at gmail.com git_url: https://git.bioconductor.org/packages/GSE159526 git_branch: RELEASE_3_22 git_last_commit: 866ae75 git_last_commit_date: 2025-10-29 10:04:19 -0500 (Wed, 29 Oct 2025)