Package: GSE13015 Version: 1.16.0 Command: /home/biocbuild/bbs-3.21-bioc/R/bin/R CMD build --keep-empty-dirs --no-resave-data GSE13015 StartedAt: 2025-10-14 11:19:04 -0400 (Tue, 14 Oct 2025) EndedAt: 2025-10-14 11:19:34 -0400 (Tue, 14 Oct 2025) EllapsedTime: 30.0 seconds RetCode: 0 Status: OK PackageFile: GSE13015_1.16.0.tar.gz PackageFileSize: 218.5 KiB