Package: GSE103322 Version: 1.14.0 Command: /home/biocbuild/bbs-3.21-bioc/R/bin/R CMD INSTALL GSE103322 StartedAt: 2025-10-16 10:59:40 -0400 (Thu, 16 Oct 2025) EndedAt: 2025-10-16 10:59:56 -0400 (Thu, 16 Oct 2025) EllapsedTime: 16.0 seconds RetCode: 0 Status: OK