Package: GSBenchMark Version: 1.26.0 Command: /home/biocbuild/bbs-3.20-bioc/R/bin/R CMD INSTALL GSBenchMark StartedAt: 2025-02-06 10:55:49 -0500 (Thu, 06 Feb 2025) EndedAt: 2025-02-06 10:55:51 -0500 (Thu, 06 Feb 2025) EllapsedTime: 2.0 seconds RetCode: 0 Status: OK