Package: GSBenchMark Version: 1.26.0 Command: /home/biocbuild/bbs-3.20-bioc/R/bin/R CMD check --install=check:GSBenchMark.install-out.txt --library=/home/biocbuild/bbs-3.20-bioc/R/site-library --timings GSBenchMark_1.26.0.tar.gz StartedAt: 2025-02-06 12:06:03 -0500 (Thu, 06 Feb 2025) EndedAt: 2025-02-06 12:06:37 -0500 (Thu, 06 Feb 2025) EllapsedTime: 34.9 seconds RetCode: 0 Status: OK CheckDir: GSBenchMark.Rcheck Warnings: 0