Package: GIGSEAdata Version: 1.26.0 Command: /home/biocbuild/bbs-3.21-bioc/R/bin/R CMD INSTALL GIGSEAdata StartedAt: 2025-10-16 10:55:28 -0400 (Thu, 16 Oct 2025) EndedAt: 2025-10-16 10:55:31 -0400 (Thu, 16 Oct 2025) EllapsedTime: 3.3 seconds RetCode: 0 Status: OK