Package: GIGSEAdata Version: 1.26.0 Command: /home/biocbuild/bbs-3.21-bioc/R/bin/R CMD build --keep-empty-dirs --no-resave-data GIGSEAdata StartedAt: 2025-10-16 11:18:51 -0400 (Thu, 16 Oct 2025) EndedAt: 2025-10-16 11:18:59 -0400 (Thu, 16 Oct 2025) EllapsedTime: 7.9 seconds RetCode: 0 Status: OK PackageFile: GIGSEAdata_1.26.0.tar.gz PackageFileSize: 6.187 MiB