Package: FlowSorted.DLPFC.450k Version: 1.42.0 Command: /home/biocbuild/bbs-3.20-bioc/R/bin/R CMD INSTALL FlowSorted.DLPFC.450k StartedAt: 2025-02-13 11:02:24 -0500 (Thu, 13 Feb 2025) EndedAt: 2025-02-13 11:03:26 -0500 (Thu, 13 Feb 2025) EllapsedTime: 62.3 seconds RetCode: 0 Status: OK