Package: FlowSorted.DLPFC.450k Version: 1.42.0 Command: /home/biocbuild/bbs-3.20-bioc/R/bin/R CMD build --keep-empty-dirs --no-resave-data FlowSorted.DLPFC.450k StartedAt: 2025-02-13 11:16:34 -0500 (Thu, 13 Feb 2025) EndedAt: 2025-02-13 11:17:48 -0500 (Thu, 13 Feb 2025) EllapsedTime: 73.4 seconds RetCode: 0 Status: OK PackageFile: FlowSorted.DLPFC.450k_1.42.0.tar.gz PackageFileSize: 123.7 MiB