Package: FlowSorted.DLPFC.450k Version: 1.44.0 Command: /home/biocbuild/bbs-3.21-bioc/R/bin/R CMD check --install=check:FlowSorted.DLPFC.450k.install-out.txt --library=/home/biocbuild/bbs-3.21-bioc/R/site-library --timings FlowSorted.DLPFC.450k_1.44.0.tar.gz StartedAt: 2025-10-02 12:18:42 -0400 (Thu, 02 Oct 2025) EndedAt: 2025-10-02 12:21:44 -0400 (Thu, 02 Oct 2025) EllapsedTime: 182.3 seconds RetCode: 0 Status: WARNINGS CheckDir: FlowSorted.DLPFC.450k.Rcheck Warnings: 1