Package: FlowSorted.CordBlood.450k Version: 1.34.0 Maintainer: Shan V. Andrews MaintainerEmail: sandre17 at jhu.edu git_url: https://git.bioconductor.org/packages/FlowSorted.CordBlood.450k git_branch: RELEASE_3_20 git_last_commit: 15ad691 git_last_commit_date: 2024-10-29 09:44:35 -0500 (Tue, 29 Oct 2024)