Package: FlowSorted.Blood.EPIC Version: 2.14.0 Command: /home/biocbuild/bbs-3.22-bioc/R/bin/R CMD build --keep-empty-dirs --no-resave-data FlowSorted.Blood.EPIC StartedAt: 2025-10-30 11:24:25 -0400 (Thu, 30 Oct 2025) EndedAt: 2025-10-30 11:31:24 -0400 (Thu, 30 Oct 2025) EllapsedTime: 419.4 seconds RetCode: 0 Status: OK PackageFile: FlowSorted.Blood.EPIC_2.14.0.tar.gz PackageFileSize: 96.17 KiB