Package: FlowSorted.Blood.EPIC Version: 2.12.0 Command: /home/biocbuild/bbs-3.21-bioc/R/bin/R CMD check --install=check:FlowSorted.Blood.EPIC.install-out.txt --library=/home/biocbuild/bbs-3.21-bioc/R/site-library --timings FlowSorted.Blood.EPIC_2.12.0.tar.gz StartedAt: 2025-09-30 12:17:38 -0400 (Tue, 30 Sep 2025) EndedAt: 2025-09-30 12:35:30 -0400 (Tue, 30 Sep 2025) EllapsedTime: 1072.2 seconds RetCode: 0 Status: OK CheckDir: FlowSorted.Blood.EPIC.Rcheck Warnings: 0