Package: Fletcher2013b Version: 1.42.0 Command: /home/biocbuild/bbs-3.20-bioc/R/bin/R CMD check --install=check:Fletcher2013b.install-out.txt --library=/home/biocbuild/bbs-3.20-bioc/R/site-library --timings Fletcher2013b_1.42.0.tar.gz StartedAt: 2025-02-11 12:04:17 -0500 (Tue, 11 Feb 2025) EndedAt: 2025-02-11 12:08:02 -0500 (Tue, 11 Feb 2025) EllapsedTime: 224.2 seconds RetCode: 0 Status: WARNINGS CheckDir: Fletcher2013b.Rcheck Warnings: 1