Package: Fletcher2013b Version: 1.44.0 Command: /home/biocbuild/bbs-3.21-bioc/R/bin/R CMD INSTALL Fletcher2013b StartedAt: 2025-10-02 10:59:53 -0400 (Thu, 02 Oct 2025) EndedAt: 2025-10-02 11:00:20 -0400 (Thu, 02 Oct 2025) EllapsedTime: 27.6 seconds RetCode: 0 Status: OK