Package: Fletcher2013a Version: 1.42.0 Command: /home/biocbuild/bbs-3.20-bioc/R/bin/R CMD INSTALL Fletcher2013a StartedAt: 2025-02-06 10:56:30 -0500 (Thu, 06 Feb 2025) EndedAt: 2025-02-06 10:56:43 -0500 (Thu, 06 Feb 2025) EllapsedTime: 12.6 seconds RetCode: 0 Status: OK