Package: Fletcher2013a Version: 1.42.0 Command: /home/biocbuild/bbs-3.20-bioc/R/bin/R CMD build --keep-empty-dirs --no-resave-data Fletcher2013a StartedAt: 2025-02-11 11:16:11 -0500 (Tue, 11 Feb 2025) EndedAt: 2025-02-11 11:16:28 -0500 (Tue, 11 Feb 2025) EllapsedTime: 16.6 seconds RetCode: 0 Status: OK PackageFile: Fletcher2013a_1.42.0.tar.gz PackageFileSize: 73.39 MiB