Package: Fletcher2013a Version: 1.44.0 Command: /home/biocbuild/bbs-3.21-bioc/R/bin/R CMD INSTALL Fletcher2013a StartedAt: 2025-10-09 10:56:29 -0400 (Thu, 09 Oct 2025) EndedAt: 2025-10-09 10:56:36 -0400 (Thu, 09 Oct 2025) EllapsedTime: 6.9 seconds RetCode: 0 Status: OK