Package: Fletcher2013a Version: 1.44.0 Command: /home/biocbuild/bbs-3.21-bioc/R/bin/R CMD build --keep-empty-dirs --no-resave-data Fletcher2013a StartedAt: 2025-10-09 11:16:12 -0400 (Thu, 09 Oct 2025) EndedAt: 2025-10-09 11:16:28 -0400 (Thu, 09 Oct 2025) EllapsedTime: 16.3 seconds RetCode: 0 Status: OK PackageFile: Fletcher2013a_1.44.0.tar.gz PackageFileSize: 73.39 MiB