Package: FieldEffectCrc Version: 1.16.0 Command: /home/biocbuild/bbs-3.20-bioc/R/bin/R CMD INSTALL FieldEffectCrc StartedAt: 2025-01-30 11:01:14 -0500 (Thu, 30 Jan 2025) EndedAt: 2025-01-30 11:01:48 -0500 (Thu, 30 Jan 2025) EllapsedTime: 34.6 seconds RetCode: 0 Status: OK