Package: FANTOM3and4CAGE Version: 1.46.0 Command: /home/biocbuild/bbs-3.22-bioc/R/bin/R CMD build --keep-empty-dirs --no-resave-data FANTOM3and4CAGE StartedAt: 2025-11-18 11:27:43 -0500 (Tue, 18 Nov 2025) EndedAt: 2025-11-18 11:27:59 -0500 (Tue, 18 Nov 2025) EllapsedTime: 16.0 seconds RetCode: 0 Status: OK PackageFile: FANTOM3and4CAGE_1.46.0.tar.gz PackageFileSize: 34.73 MiB