Package: EpiMix.data Version: 1.8.0 Command: /home/biocbuild/bbs-3.20-bioc/R/bin/R CMD INSTALL EpiMix.data StartedAt: 2025-02-13 10:57:28 -0500 (Thu, 13 Feb 2025) EndedAt: 2025-02-13 10:57:42 -0500 (Thu, 13 Feb 2025) EllapsedTime: 13.9 seconds RetCode: 0 Status: OK