Package: EpiMix.data Version: 1.8.0 Command: /home/biocbuild/bbs-3.20-bioc/R/bin/R CMD build --keep-empty-dirs --no-resave-data EpiMix.data StartedAt: 2025-02-13 11:14:12 -0500 (Thu, 13 Feb 2025) EndedAt: 2025-02-13 11:14:29 -0500 (Thu, 13 Feb 2025) EllapsedTime: 17.3 seconds RetCode: 0 Status: OK PackageFile: EpiMix.data_1.8.0.tar.gz PackageFileSize: 5.021 MiB