Package: EatonEtAlChIPseq Version: 0.48.0 Command: /home/biocbuild/bbs-3.22-bioc/R/bin/R CMD INSTALL EatonEtAlChIPseq StartedAt: 2025-10-30 11:03:54 -0400 (Thu, 30 Oct 2025) EndedAt: 2025-10-30 11:04:23 -0400 (Thu, 30 Oct 2025) EllapsedTime: 29.7 seconds RetCode: 0 Status: OK