Package: ELMER.data Version: 2.30.0 Command: /home/biocbuild/bbs-3.20-bioc/R/bin/R CMD INSTALL ELMER.data StartedAt: 2025-02-11 10:58:21 -0500 (Tue, 11 Feb 2025) EndedAt: 2025-02-11 10:58:29 -0500 (Tue, 11 Feb 2025) EllapsedTime: 7.9 seconds RetCode: 0 Status: OK