Package: EGSEAdata Version: 1.38.0 Command: /home/biocbuild/bbs-3.22-bioc/R/bin/R CMD INSTALL EGSEAdata StartedAt: 2025-10-30 10:56:16 -0400 (Thu, 30 Oct 2025) EndedAt: 2025-10-30 10:56:22 -0400 (Thu, 30 Oct 2025) EllapsedTime: 6.2 seconds RetCode: 0 Status: OK