Package: DvDdata Version: 1.44.0 Command: /home/biocbuild/bbs-3.21-bioc/R/bin/R CMD INSTALL DvDdata StartedAt: 2025-10-14 10:55:17 -0400 (Tue, 14 Oct 2025) EndedAt: 2025-10-14 10:55:24 -0400 (Tue, 14 Oct 2025) EllapsedTime: 7.0 seconds RetCode: 0 Status: OK