Package: DrugVsDiseasedata Version: 1.42.0 Command: /home/biocbuild/bbs-3.20-bioc/R/bin/R CMD INSTALL DrugVsDiseasedata StartedAt: 2025-02-13 10:55:54 -0500 (Thu, 13 Feb 2025) EndedAt: 2025-02-13 10:55:56 -0500 (Thu, 13 Feb 2025) EllapsedTime: 1.3 seconds RetCode: 0 Status: OK