Package: DropletTestFiles Version: 1.16.0 Command: /home/biocbuild/bbs-3.20-bioc/R/bin/R CMD INSTALL DropletTestFiles StartedAt: 2025-02-06 10:57:38 -0500 (Thu, 06 Feb 2025) EndedAt: 2025-02-06 10:57:51 -0500 (Thu, 06 Feb 2025) EllapsedTime: 13.8 seconds RetCode: 0 Status: OK