Package: DonaPLLP2013 Version: 1.46.0 Command: /home/biocbuild/bbs-3.21-bioc/R/bin/R CMD INSTALL DonaPLLP2013 StartedAt: 2025-10-07 10:57:48 -0400 (Tue, 07 Oct 2025) EndedAt: 2025-10-07 10:57:51 -0400 (Tue, 07 Oct 2025) EllapsedTime: 3.2 seconds RetCode: 0 Status: OK