Package: DoReMiTra Version: 1.0.0 Command: /home/biocbuild/bbs-3.22-bioc/R/bin/R CMD INSTALL DoReMiTra StartedAt: 2025-11-18 11:03:01 -0500 (Tue, 18 Nov 2025) EndedAt: 2025-11-18 11:03:31 -0500 (Tue, 18 Nov 2025) EllapsedTime: 30.2 seconds RetCode: 0 Status: OK