Package: DeSousa2013 Version: 1.46.0 Command: /home/biocbuild/bbs-3.22-bioc/R/bin/R CMD INSTALL DeSousa2013 StartedAt: 2025-10-30 11:03:04 -0400 (Thu, 30 Oct 2025) EndedAt: 2025-10-30 11:03:47 -0400 (Thu, 30 Oct 2025) EllapsedTime: 42.1 seconds RetCode: 0 Status: OK