Package: DeSousa2013 Version: 1.46.0 Command: /home/biocbuild/bbs-3.22-bioc/R/bin/R CMD build --keep-empty-dirs --no-resave-data DeSousa2013 StartedAt: 2025-10-30 11:20:38 -0400 (Thu, 30 Oct 2025) EndedAt: 2025-10-30 11:21:37 -0400 (Thu, 30 Oct 2025) EllapsedTime: 59.1 seconds RetCode: 0 Status: OK PackageFile: DeSousa2013_1.46.0.tar.gz PackageFileSize: 44.76 MiB