Package: DeSousa2013 Version: 1.44.0 Command: /home/biocbuild/bbs-3.21-bioc/R/bin/R CMD INSTALL DeSousa2013 StartedAt: 2025-10-02 11:01:37 -0400 (Thu, 02 Oct 2025) EndedAt: 2025-10-02 11:02:08 -0400 (Thu, 02 Oct 2025) EllapsedTime: 30.9 seconds RetCode: 0 Status: OK