Package: DNAZooData Version: 1.8.0 Command: /home/biocbuild/bbs-3.21-bioc/R/bin/R CMD INSTALL DNAZooData StartedAt: 2025-10-02 11:00:51 -0400 (Thu, 02 Oct 2025) EndedAt: 2025-10-02 11:01:17 -0400 (Thu, 02 Oct 2025) EllapsedTime: 26.2 seconds RetCode: 0 Status: OK