Package: DNAZooData Version: 1.8.0 Command: /home/biocbuild/bbs-3.21-bioc/R/bin/R CMD build --keep-empty-dirs --no-resave-data DNAZooData StartedAt: 2025-10-02 11:13:50 -0400 (Thu, 02 Oct 2025) EndedAt: 2025-10-02 11:14:29 -0400 (Thu, 02 Oct 2025) EllapsedTime: 39.1 seconds RetCode: 0 Status: OK PackageFile: DNAZooData_1.8.0.tar.gz PackageFileSize: 235.7 KiB