Package: DLBCL Version: 1.48.0 Command: /home/biocbuild/bbs-3.21-bioc/R/bin/R CMD build --keep-empty-dirs --no-resave-data DLBCL StartedAt: 2025-10-02 11:13:48 -0400 (Thu, 02 Oct 2025) EndedAt: 2025-10-02 11:13:50 -0400 (Thu, 02 Oct 2025) EllapsedTime: 1.3 seconds RetCode: 0 Status: OK PackageFile: DLBCL_1.48.0.tar.gz PackageFileSize: 5.525 MiB