Package: DExMAdata Version: 1.18.0 Command: /home/biocbuild/bbs-3.22-bioc/R/bin/R CMD check --install=check:DExMAdata.install-out.txt --library=/home/biocbuild/bbs-3.22-bioc/R/site-library --timings DExMAdata_1.18.0.tar.gz StartedAt: 2025-11-18 12:42:28 -0500 (Tue, 18 Nov 2025) EndedAt: 2025-11-18 12:43:28 -0500 (Tue, 18 Nov 2025) EllapsedTime: 60.0 seconds RetCode: 0 Status: OK CheckDir: DExMAdata.Rcheck Warnings: 0