Package: DExMAdata Version: 1.16.0 Command: /home/biocbuild/bbs-3.21-bioc/R/bin/R CMD INSTALL DExMAdata StartedAt: 2025-10-09 10:56:18 -0400 (Thu, 09 Oct 2025) EndedAt: 2025-10-09 10:57:14 -0400 (Thu, 09 Oct 2025) EllapsedTime: 56.1 seconds RetCode: 0 Status: OK