Package: DExMAdata Version: 1.16.0 Command: /home/biocbuild/bbs-3.21-bioc/R/bin/R CMD build --keep-empty-dirs --no-resave-data DExMAdata StartedAt: 2025-10-09 11:13:35 -0400 (Thu, 09 Oct 2025) EndedAt: 2025-10-09 11:14:40 -0400 (Thu, 09 Oct 2025) EllapsedTime: 64.6 seconds RetCode: 0 Status: OK PackageFile: DExMAdata_1.16.0.tar.gz PackageFileSize: 7.389 MiB