Package: DAPARdata Version: 1.38.0 Command: /home/biocbuild/bbs-3.21-bioc/R/bin/R CMD INSTALL DAPARdata StartedAt: 2025-10-07 11:01:29 -0400 (Tue, 07 Oct 2025) EndedAt: 2025-10-07 11:02:05 -0400 (Tue, 07 Oct 2025) EllapsedTime: 36.2 seconds RetCode: 0 Status: OK