Package: DAPARdata Version: 1.38.0 Command: /home/biocbuild/bbs-3.21-bioc/R/bin/R CMD build --keep-empty-dirs --no-resave-data DAPARdata StartedAt: 2025-10-07 11:12:16 -0400 (Tue, 07 Oct 2025) EndedAt: 2025-10-07 11:12:59 -0400 (Tue, 07 Oct 2025) EllapsedTime: 43.0 seconds RetCode: 0 Status: OK PackageFile: DAPARdata_1.38.0.tar.gz PackageFileSize: 29.04 MiB