Package: CopyNeutralIMA Version: 1.24.0 Command: /home/biocbuild/bbs-3.20-bioc/R/bin/R CMD INSTALL CopyNeutralIMA StartedAt: 2025-02-13 10:57:59 -0500 (Thu, 13 Feb 2025) EndedAt: 2025-02-13 10:58:15 -0500 (Thu, 13 Feb 2025) EllapsedTime: 16.9 seconds RetCode: 0 Status: OK